BEGIN:VCALENDAR
VERSION:2.0
PRODID:-//Ortspartei SVP Kölliken //NONSGML Events //EN
CALSCALE:GREGORIAN
X-WR-CALNAME:Ortspartei SVP Kölliken
BEGIN:VEVENT
CREATED:20250209T155440Z
UID:837
DTEND:20260623T000000
DTSTART:20260623T000000
DTSTAMP:20260422T083523Z
LOCATION:Gasthof Schützen\, Aarau
DESCRIPTION:SVP Aargau 
SUMMARY:Sessionsrückblick mit Politapéro
ORGANIZER:
URL;VALUE=URI:https://www.svp-koelliken.ch/termine/politapero-sessionsrueckblick-2/
TRANSP:OPAQUE
END:VEVENT
END:VCALENDAR
