BEGIN:VCALENDAR
VERSION:2.0
PRODID:-//Ortspartei SVP Kölliken //NONSGML Events //EN
CALSCALE:GREGORIAN
X-WR-CALNAME:Ortspartei SVP Kölliken
BEGIN:VEVENT
CREATED:20240104T165159Z
UID:774
DTEND:20260506T000000
DTSTART:20260506T000000
DTSTAMP:20260420T112453Z
LOCATION:
DESCRIPTION:
SUMMARY:Kantonalparteitag
ORGANIZER:
URL;VALUE=URI:https://www.svp-koelliken.ch/termine/kantonalparteitag-3/
TRANSP:OPAQUE
END:VEVENT
END:VCALENDAR
