BEGIN:VCALENDAR
VERSION:2.0
PRODID:-//Ortspartei SVP Kölliken //NONSGML Events //EN
CALSCALE:GREGORIAN
X-WR-CALNAME:Ortspartei SVP Kölliken
BEGIN:VEVENT
CREATED:20240104T162208Z
UID:752
DTEND:20260529T200000
DTSTART:20260529T194500
DTSTAMP:20260424T081305Z
LOCATION:Aula Oberstufenschulhaus
DESCRIPTION:Gemeindeversammlung – Gemeinde Kölliken
SUMMARY:Ortsbürgergemeindeversammlung
ORGANIZER:
URL;VALUE=URI:https://www.svp-koelliken.ch/termine/ortsbuergergemeindeversammlung-4/
TRANSP:OPAQUE
END:VEVENT
END:VCALENDAR
